BEGIN:VCALENDAR
VERSION:2.0
PRODID:-//ELM3 - ECPv6.15.13//NONSGML v1.0//EN
CALSCALE:GREGORIAN
METHOD:PUBLISH
X-WR-CALNAME:ELM3
X-ORIGINAL-URL:https://elmthree.com
X-WR-CALDESC:Events for ELM3
REFRESH-INTERVAL;VALUE=DURATION:PT1H
X-Robots-Tag:noindex
X-PUBLISHED-TTL:PT1H
BEGIN:VTIMEZONE
TZID:America/New_York
BEGIN:DAYLIGHT
TZOFFSETFROM:-0500
TZOFFSETTO:-0400
TZNAME:EDT
DTSTART:20250309T070000
END:DAYLIGHT
BEGIN:STANDARD
TZOFFSETFROM:-0400
TZOFFSETTO:-0500
TZNAME:EST
DTSTART:20251102T060000
END:STANDARD
BEGIN:DAYLIGHT
TZOFFSETFROM:-0500
TZOFFSETTO:-0400
TZNAME:EDT
DTSTART:20260308T070000
END:DAYLIGHT
BEGIN:STANDARD
TZOFFSETFROM:-0400
TZOFFSETTO:-0500
TZNAME:EST
DTSTART:20261101T060000
END:STANDARD
BEGIN:DAYLIGHT
TZOFFSETFROM:-0500
TZOFFSETTO:-0400
TZNAME:EDT
DTSTART:20270314T070000
END:DAYLIGHT
BEGIN:STANDARD
TZOFFSETFROM:-0400
TZOFFSETTO:-0500
TZNAME:EST
DTSTART:20271107T060000
END:STANDARD
END:VTIMEZONE
BEGIN:VEVENT
DTSTART;TZID=America/New_York:20260709T190000
DTEND;TZID=America/New_York:20260709T233000
DTSTAMP:20260424T051024
CREATED:20260408T014156Z
LAST-MODIFIED:20260408T014156Z
UID:1874-1783623600-1783639800@elmthree.com
SUMMARY:Sqwerv at Asbury Jams
DESCRIPTION:Some music cannot be found on a map or within iTunes categories.  Some music is so original it seems snatched from the great\, invisible substrata that runs below all human activity\, a sound aching to be born without a flag or fixed allegiance – free\, questing\, overflowing with immediate\, tangible life.  This is the music of Toubab Krewe\, the vibrant instrumental powerhouse that creates a sonic Pangaea that lustily swirls together rock\, African traditions\, jam sensibilities\, international folk strains and more.  While nearly impossible to put into any box\, it takes only a few moments to realize in a very palpable way that one is face-to-face with a true original who recognizes no borders in a march towards a muscular\, original\, globally switched-on sound. \nFormed in 2005\, Toubab Krewe has tenaciously honed their craft through relentless touring and a fierce dedication to carving out something they can truly call their own.  The fruits of this hard work can be heard on their latest release\, STYLO\, (March 2nd\, 2018).  What Justin Perkins (Kora\, Kamelngoni\, guitar\, percussion)\, Terrence Houston (drumset)\, Drew Heller (guitar\, organ)\, Justin Kimmel (bass\, keys)\, and Luke Quaranta (Djembe\, Congas\, Dundun\, Sangban\, Kinkini) have wrought on STYLO reflects the many miles and musical journeys that have transpired since their last studio album\, TK2. \nThis is a band that actively draws inspiration from whatever source floats into their purview\, something they’ve exhibited in their decade and a half of heavy gigging\, including regular appearances at major U.S. festivals like Bonnaroo\, High Sierra\, Rothbury and Wakarusa\, and abroad at such legendary gatherings as the Festival In The Desert in Essakane\, Mali. Whether on their own or collaborating with luminaries like the Last Poets’ Umar Bin Hassan or Uncle Earl’s Rayna Gellert\, Toubab Krewe has already earned the attention and respect of a broad musical community. \nToubab carries echoes of African greats like Ali Farka Toure\, Orchestra Baobab and Salif Keita\, no doubt picked up during the group’s travels to study and live in Guinea\, Ivory Coast and Mali.  But what truly differentiates Toubab Krewe from other Statesiders inspired by African music is how they innovate on what they’ve learned instead of simply recreating tradition. Toubab Krewe carves out a new trail honoring the African originators they admire by making something alive and contemporary.
URL:https://elmthree.com/event/sqwerv-at-asbury-jams-2/
LOCATION:Wonder Bar\, 1213 Ocean Ave\, Asbury Park\, NJ\, 07712\, United States
ATTACH;FMTTYPE=image/jpeg:https://elmthree.com/wp-content/uploads/2026/04/1200x628_ToubabKrewe_APJAMS_2026.jpg
END:VEVENT
END:VCALENDAR